BEGIN:VCALENDAR
VERSION:2.0
PRODID:-//UK Street Dance Challenge - ECPv6.15.14//NONSGML v1.0//EN
CALSCALE:GREGORIAN
METHOD:PUBLISH
X-ORIGINAL-URL:https://ukstreetdancechallenge.co.uk
X-WR-CALDESC:Events for UK Street Dance Challenge
REFRESH-INTERVAL;VALUE=DURATION:PT1H
X-Robots-Tag:noindex
X-PUBLISHED-TTL:PT1H
BEGIN:VTIMEZONE
TZID:UTC
BEGIN:STANDARD
TZOFFSETFROM:+0000
TZOFFSETTO:+0000
TZNAME:UTC
DTSTART:20240101T000000
END:STANDARD
END:VTIMEZONE
BEGIN:VEVENT
DTSTART;TZID=UTC:20250323T080000
DTEND;TZID=UTC:20250323T180000
DTSTAMP:20260423T134448
CREATED:20240814T145240Z
LAST-MODIFIED:20240821T145330Z
UID:5086-1742716800-1742752800@ukstreetdancechallenge.co.uk
SUMMARY:North East Championships
DESCRIPTION:UK Street Dance Challenge\nNorth East Championships\nCompete at our North East Championships and be in with a chance of winning a share of the £10\,000 cash prize as part of our 10 year anniversary! The Top 3 highest scoring crews of the year will win a share of the prize! \nDate: Sunday 23rd March 2025 \nCompetitions: \nTeams\nAbility: Beginner\, Intermediate or Advanced\nAges: 6 & Under\, 8 & Under\, 10 & Under\, 12 & Under\, 14 & Under\, 17 & Under\, 18 & Over \nSolos\nAbility: Newcomer\, Beginner\, Intermediate or Advanced\nAges: 6 & Under\, 8 & Under\, 10 & Under\, 12 & Under\, 14 & Under\, 17 & Under\, 18 & Over \nDuos\nAbility: Beginner\, Intermediate or Advanced\nAges: 6 & Under\, 8 & Under\, 10 & Under\, 12 & Under\, 14 & Under\, 17 & Under\, 18 & Over\n \nMega Crew \nParent Crew \nTicket Prices:\nDancer: £20\nSpectator: £20\nSpectators under 5: Free \nIf you have any questions please contact us: \ninfo@ukstreetdancechallenge.co.uk / 0191 5438288. \nOUR NEW PORTAL IS CURRENTLY IN DEVELOPMENT – TO RESERVE TICKETS PLEASE CONTACT US ON THE EMAIL OR TELEPHONE NUMBER ABOVE.
URL:https://ukstreetdancechallenge.co.uk/event/north-east-championships/
LOCATION:East Durham College\, Willerby Grove\, Sunderland\, SR8 2RN\, United Kingdom
CATEGORIES:Street Dance Events
ATTACH;FMTTYPE=image/jpeg:https://ukstreetdancechallenge.co.uk/wp-content/uploads/2024/08/SDC_Regionals-2025_Insta-grid_all-events-1.jpg
END:VEVENT
END:VCALENDAR